BEGIN:VCALENDAR
VERSION:2.0
PRODID:-//Kirchengemeinde Cölbe - ECPv6.15.15//NONSGML v1.0//EN
CALSCALE:GREGORIAN
METHOD:PUBLISH
X-ORIGINAL-URL:https://xn--kircheinclbe-djb.de
X-WR-CALDESC:Veranstaltungen für Kirchengemeinde Cölbe
REFRESH-INTERVAL;VALUE=DURATION:PT1H
X-Robots-Tag:noindex
X-PUBLISHED-TTL:PT1H
BEGIN:VTIMEZONE
TZID:UTC
BEGIN:STANDARD
TZOFFSETFROM:+0000
TZOFFSETTO:+0000
TZNAME:UTC
DTSTART:20250101T000000
END:STANDARD
END:VTIMEZONE
BEGIN:VEVENT
DTSTART;TZID=UTC:20260514T100000
DTEND;TZID=UTC:20260514T110000
DTSTAMP:20260424T153400
CREATED:20260421T164307Z
LAST-MODIFIED:20260421T164413Z
UID:514-1778752800-1778756400@xn--kircheinclbe-djb.de
SUMMARY:Ökumenischer Himmelfahrtsgottesdienst
DESCRIPTION:
URL:https://xn--kircheinclbe-djb.de/veranstaltung/oekumenischer-himmelfahrtsgottesdienst/
ATTACH;FMTTYPE=image/jpeg:https://xn--kircheinclbe-djb.de/wp-content/uploads/2026/04/oekumenischer_gottesdienst-scaled.jpg
END:VEVENT
END:VCALENDAR