BEGIN:VCALENDAR
VERSION:2.0
PRODID:-//Kirchengemeinde Cölbe - ECPv6.15.15//NONSGML v1.0//EN
CALSCALE:GREGORIAN
METHOD:PUBLISH
X-ORIGINAL-URL:https://xn--kircheinclbe-djb.de
X-WR-CALDESC:Veranstaltungen für Kirchengemeinde Cölbe
REFRESH-INTERVAL;VALUE=DURATION:PT1H
X-Robots-Tag:noindex
X-PUBLISHED-TTL:PT1H
BEGIN:VTIMEZONE
TZID:UTC
BEGIN:STANDARD
TZOFFSETFROM:+0000
TZOFFSETTO:+0000
TZNAME:UTC
DTSTART:20250101T000000
END:STANDARD
END:VTIMEZONE
BEGIN:VEVENT
DTSTART;TZID=UTC:20260331T140000
DTEND;TZID=UTC:20260331T160000
DTSTAMP:20260424T153636
CREATED:20260320T152943Z
LAST-MODIFIED:20260320T152945Z
UID:508-1774965600-1774972800@xn--kircheinclbe-djb.de
SUMMARY:Gemeinsames Osterbasteln!
DESCRIPTION:Gemeinsames Osterbasteln für Kinder!Wer hat Lust\, gemeinsam mit uns am Dienstag\, 31.03\, gemeinsam etwas Schönes zu Ostern zu basteln? Zusammen mit Frau Heckmann und Frau Raatz bereiten wir für das Osterfest etwas vor – vielleicht als Geschenk für die Eltern\, Geschwister\, Oma oder Opa?Wir beginnen um 14.00h im Lutherhaus (Dauer ca. 2h).Wir freuen uns auf Euch! \n\n\n\nBitte meldet Euch bis zum 28.03. im Pfarrbüro an\, damit wir wissen\, wer dabei ist.
URL:https://xn--kircheinclbe-djb.de/veranstaltung/gemeinsames-osterbasteln/
ATTACH;FMTTYPE=image/jpeg:https://xn--kircheinclbe-djb.de/wp-content/uploads/2026/03/osterbasteln.jpeg
END:VEVENT
END:VCALENDAR